BEGIN:VCALENDAR
VERSION:2.0
PRODID:-//ChamberMaster//Event Calendar 2.0//EN
METHOD:PUBLISH
X-PUBLISHED-TTL:P3D
REFRESH-INTERVAL:P3D
CALSCALE:GREGORIAN
BEGIN:VEVENT
DTSTART:20150926T200000Z
DTEND:20150926T230000Z
X-MICROSOFT-CDO-ALLDAYEVENT:FALSE
SUMMARY:Sip Savor Lodi
DESCRIPTION:Sip Savor Lodi September 25-27\, 2015 www.SipSavorLodi.com Join Lodi Appellation?s vintners for the 2nd annual Sip Savor Lodi ? a wine country harvest celebration! Festivities kick off on Friday evening with an exquisite\, al fresco Harvest Dinner in downtown Lodi\, highlighting the region?s agricultural bounty. On Saturday\, sip award-winning\, handcrafted wines from 40+ Lodi wineries as you stroll the cobblestone streets of historic downtown Lodi. Savor tasty bites from the region?s finest food purveyors to the tunes of live music. Browse local olive oils\, cheeses and sweet treats from regional vendors then purchase your favorites to enjoy throughout the year. On Sunday\, enjoy wine and barrel tastings\, live music\, delicious food and more as you tour the Lodi region during the Cellar Tours at participating wineries. Tickets for Friday?s Harvest Dinner are $125 per person by advance purchase only to the Lodi Wine & Visitor Center at 209.365.0621. Tickets for Saturday?s Grand Tasting are $45 per person in advance and $55 per person the day of the event. Designated driver tickets for Saturday?s Grand Tasting are available for $10 per person in advance or the day of the event. Tickets for Saturday?s Grand Tasting can be purchased at www.sipsavorlodi.com or by calling the Lodi Wine & Visitor Center at 209.365.0621. No ticket is required for Sunday?s Cellar Tours. Must be 21 years of age to attend events.
X-ALT-DESC;FMTTYPE=text/html:Sip Savor Lodi September 25-27\, 2015 www.SipSavorLodi.com Join Lodi Appellation?s vintners for the 2nd annual Sip Savor Lodi ? a wine country harvest celebration! Festivities kick off on Friday evening with an exquisite\, al fresco Harvest Dinner in downtown Lodi\, highlighting the region?s agricultural bounty. On Saturday\, sip award-winning\, handcrafted wines from 40+ Lodi wineries as you stroll the cobblestone streets of historic downtown Lodi. Savor tasty bites from the region?s finest food purveyors to the tunes of live music. Browse local olive oils\, cheeses and sweet treats from regional vendors then purchase your favorites to enjoy throughout the year. On Sunday\, enjoy wine and barrel tastings\, live music\, delicious food and more as you tour the Lodi region during the Cellar Tours at participating wineries. Tickets for Friday?s Harvest Dinner are $125 per person by advance purchase only to the Lodi Wine &amp\; Visitor Center at 209.365.0621. Tickets for Saturday?s Grand Tasting are $45 per person in advance and $55 per person the day of the event. Designated driver tickets for Saturday?s Grand Tasting are available for $10 per person in advance or the day of the event. Tickets for Saturday?s Grand Tasting can be purchased at www.sipsavorlodi.com or by calling the Lodi Wine &amp\; Visitor Center at 209.365.0621. No ticket is required for Sunday?s Cellar Tours. Must be 21 years of age to attend events.
LOCATION:Downtown Lodi on School and Pine Streets
UID:e.2050.888
SEQUENCE:3
DTSTAMP:20260420T214942Z
URL:https://business.lodichamber.com/events/details/sip-savor-lodi-09-26-2015-888
END:VEVENT

END:VCALENDAR
