BEGIN:VCALENDAR
VERSION:2.0
PRODID:-//ChamberMaster//Event Calendar 2.0//EN
METHOD:PUBLISH
X-PUBLISHED-TTL:P3D
REFRESH-INTERVAL:P3D
CALSCALE:GREGORIAN
BEGIN:VEVENT
DTSTART:20260107T193000Z
DTEND:20260107T210000Z
X-MICROSOFT-CDO-ALLDAYEVENT:FALSE
SUMMARY:Smack Pie Chew & Chat
DESCRIPTION:Lodi Chamber Ambassadors: Chew & Chat Networking Lunch\n\n\n\nJoin Us for Our Monthly Business Networking Event @Smack Pie\n\nWe invite you to our upcoming "Chew & Chat\," a valuable monthly opportunity designed to foster professional connections and facilitate the exchange of vital business updates. Make new connections and friends. \n\n\n\nPlease feel free to bring your co-workers\, employees\, or friends who are interested in expanding their professional circle.\n\nWe look forward to seeing you there for a productive and enjoyable lunch!\n\n\n\nKey Objectives of the Event\n\n	Information Sharing: Present and receive new developments and insights regarding your business or industry. We encourage all attendees to come prepared to briefly share one key update.\n	Networking: Expand your professional network by meeting new contacts and reconnecting with colleagues.\n	Community Building: Enjoy a relaxed meal with peers in a new\, exciting venue.
X-ALT-DESC;FMTTYPE=text/html:<span style="font-size:16px\;"><span style="font-family:tahoma\;"><strong>Lodi Chamber Ambassadors: Chew &amp\; Chat Networking Lunch</strong><br />\n<br />\n<strong>Join Us for Our Monthly Business Networking Event @Smack Pie</strong><br />\nWe invite you to our upcoming <strong>&quot\;Chew &amp\; Chat\,&quot\;</strong> a valuable monthly opportunity designed to foster professional connections and facilitate the exchange of vital business updates. Make new connections and friends.&nbsp\;<br />\n<br />\nPlease feel free to bring your co-workers\, employees\, or friends who are interested in expanding their professional circle.<br />\nWe look forward to seeing you there for a productive and enjoyable lunch!<br />\n<br />\n<strong>Key Objectives of the Event</strong></span></span>\n<ul>\n	<li style="line-height:normal\;"><span style="font-size:16px\;"><span style="font-family:tahoma\;"><strong>Information Sharing:</strong> Present and receive new developments and insights regarding your business or industry. We encourage all attendees to come prepared to briefly share <strong>one key update</strong>.</span></span></li>\n	<li style="line-height:normal\;"><span style="font-size:16px\;"><span style="font-family:tahoma\;"><strong>Networking:</strong> Expand your professional network by meeting new contacts and reconnecting with colleagues.</span></span></li>\n	<li style="line-height:normal\;"><span style="font-size:16px\;"><span style="font-family:tahoma\;"><strong>Community Building:</strong> Enjoy a relaxed meal with peers in a new\, exciting venue.</span></span></li>\n</ul>\n<br />\n&nbsp\;
LOCATION:Where: Smack Pie Date: Wednesday\, January 7\, 2026 Time: 11:30 AM 1:00 PM Location: Smack Pie RSVP Deadline: Monday\, January 5\, 2026
UID:e.2050.6213
SEQUENCE:3
DTSTAMP:20260420T125650Z
URL:https://business.lodichamber.com/events/details/smack-pie-chew-chat-6213
END:VEVENT

END:VCALENDAR
