BEGIN:VCALENDAR
VERSION:2.0
PRODID:-//ChamberMaster//Event Calendar 2.0//EN
METHOD:PUBLISH
X-PUBLISHED-TTL:P3D
REFRESH-INTERVAL:P3D
CALSCALE:GREGORIAN
BEGIN:VEVENT
DTSTART:20140816T170000Z
DTEND:20140816T220000Z
X-MICROSOFT-CDO-ALLDAYEVENT:FALSE
SUMMARY:Solar Day
DESCRIPTION:Bring your family to the World of Wonders Science Museum for some fun in the sun!   On Saturday\, August 16th from 10:00 AM - 3:00 PM\, we will be holding our 2nd annual Solar Day event.  The WOW will be teaming up with local solar organizations to bring you a variety of hands-on solar activities throughout the day\, including:  racing solar cars\, building solar water fountains\, you can even cook a tasty snack using a solar oven or an 8 foot solar parabolic dish!  Slather on the sunscreen\, put your shades on\, and head over to the WOW.
X-ALT-DESC;FMTTYPE=text/html:Bring your family to the World of Wonders Science Museum for some fun in the sun! &nbsp\; On Saturday\, August 16th from 10:00 AM - 3:00 PM\, we will be holding our 2nd annual Solar Day event.&nbsp\; The WOW will be teaming up with local solar organizations to bring you a variety of hands-on solar activities throughout the day\, including:&nbsp\; racing solar cars\, building solar water fountains\, you can even cook a tasty snack using a solar oven or an 8 foot solar parabolic dish!&nbsp\; Slather on the sunscreen\, put your shades on\, and head over to the WOW.
LOCATION:2 N. Sacramento St Lodi CA 95240
UID:e.2050.283
SEQUENCE:3
DTSTAMP:20260421T144741Z
URL:https://business.lodichamber.com/events/details/solar-day-08-16-2014-283
END:VEVENT

END:VCALENDAR
