BEGIN:VCALENDAR
VERSION:2.0
PRODID:-//ChamberMaster//Event Calendar 2.0//EN
METHOD:PUBLISH
X-PUBLISHED-TTL:P3D
REFRESH-INTERVAL:P3D
CALSCALE:GREGORIAN
BEGIN:VEVENT
DTSTART:20150829T170000Z
DTEND:20150829T220000Z
X-MICROSOFT-CDO-ALLDAYEVENT:FALSE
SUMMARY:Solar Day
DESCRIPTION:Come join us at the WOW museum and have some fun with the sun! Come drive a solar-powered cart. Become a human sun dial! Learn about the uses of solar technology. Also view the sun's surface through a telescope and many more activities!
X-ALT-DESC;FMTTYPE=text/html:Come join us at the WOW museum and have some fun with the sun! Come drive a solar-powered cart. Become a human sun dial! Learn about the uses of solar technology. Also view the sun&#39\;s surface through a telescope and many more activities!
LOCATION:World of Wonders 2 N. Sacramento St. Lodi\, CA 95240
UID:e.2050.437
SEQUENCE:3
DTSTAMP:20260420T082134Z
URL:https://business.lodichamber.com/events/details/solar-day-08-29-2015-437
END:VEVENT

END:VCALENDAR
