BEGIN:VCALENDAR
VERSION:2.0
PRODID:-//ChamberMaster//Event Calendar 2.0//EN
METHOD:PUBLISH
X-PUBLISHED-TTL:P3D
REFRESH-INTERVAL:P3D
CALSCALE:GREGORIAN
BEGIN:VEVENT
DTSTART:20150214T013000Z
DTEND:20150214T063000Z
X-MICROSOFT-CDO-ALLDAYEVENT:FALSE
SUMMARY:Space Night
DESCRIPTION:The World of Wonders Science Museum will be partnering with the Stockton Thunder to bring you and your family a fun filled night of hockey and science! Come interact with our hands-on exhibits\, listen to Jose M Hernandez (a real live astronaut)\, and watch the Stockton Thunder take on the Colorado Eagles.
X-ALT-DESC;FMTTYPE=text/html:The World of Wonders Science Museum will be partnering with the Stockton Thunder to bring you and your family a fun filled night of hockey and science! Come interact with our hands-on exhibits\, listen to Jose M Hernandez (a real live astronaut)\, and watch the Stockton Thunder take on the Colorado Eagles.
LOCATION:Stockton Arena 248 W. Fremont Street Stockton\, California
UID:e.2050.352
SEQUENCE:3
DTSTAMP:20260421T055619Z
URL:https://business.lodichamber.com/events/details/space-night-02-13-2015-352
END:VEVENT

END:VCALENDAR
