BEGIN:VCALENDAR
VERSION:2.0
PRODID:-//ChamberMaster//Event Calendar 2.0//EN
METHOD:PUBLISH
X-PUBLISHED-TTL:P3D
REFRESH-INTERVAL:P3D
CALSCALE:GREGORIAN
BEGIN:VEVENT
DTSTART;VALUE=DATE:20140317
DTEND;VALUE=DATE:20140329
TRANSP:TRANSPARENT
X-MICROSOFT-CDO-ALLDAYEVENT:TRUE
SUMMARY:Spring Day Camp
DESCRIPTION:Don't let your child be bored during Spring Break! Bear Creek Community Church presents two weeks of Spring Day Camp for children entering first through eighth grade. From Week 1(March 17-21) and Week 2(March 24-28)\, full day or extended day\, your child will enjoy fun and games\, crafts\, sports\, skits\, devotionals\, music\, friendships\, and weekly field trips. Register for one week or both! Don't miss out on all of the fun! Conveniently located between Stockton and Lodi. Call 209-369-2202 or 209-951-9229 or go to www.bearcreekchurch.com today!
X-ALT-DESC;FMTTYPE=text/html:Don&#39\;t let your child be bored during Spring Break! Bear Creek Community Church presents two weeks of Spring Day Camp for children entering first through eighth grade. From Week 1(March 17-21) and Week 2(March 24-28)\, full day or extended day\, your child will enjoy fun and games\, crafts\, sports\, skits\, devotionals\, music\, friendships\, and weekly field trips. Register for one week or both! Don&#39\;t miss out on all of the fun! Conveniently located between Stockton and Lodi. Call 209-369-2202 or 209-951-9229 or go to www.bearcreekchurch.com today!
LOCATION:Bear Creek Community Church 11171 N Lower Sacramento Rd Lodi\, CA 95242
UID:e.2050.234
SEQUENCE:3
DTSTAMP:20260421T221934Z
URL:https://business.lodichamber.com/events/details/spring-day-camp-03-17-2014-234
END:VEVENT

END:VCALENDAR
