BEGIN:VCALENDAR
VERSION:2.0
PRODID:-//ChamberMaster//Event Calendar 2.0//EN
METHOD:PUBLISH
X-PUBLISHED-TTL:P3D
REFRESH-INTERVAL:P3D
CALSCALE:GREGORIAN
BEGIN:VEVENT
DTSTART:20150323T160000Z
DTEND:20150327T230000Z
X-MICROSOFT-CDO-ALLDAYEVENT:FALSE
SUMMARY:Spring Zoo Camp
DESCRIPTION:Spring into fun as we search the globe for the different places animals call home! Whether it is a frosty mountain peak or the humid heat of a rainforest jungle\, all animals quest for the best place to live. Each camp day brings a new habitat for us to explore with games\, crafts\, activities and animal encounters. This week-long Zoo Camp program runs from 9AM to 12PM Monday through Friday. New this year! For a separate daily fee\, your campers can join us for an after camp extension program following any or all five days of Zoo Camp. You choose which afternoons you want your little animal to hang out at Micke Grove Zoo\, and we'll make sure they're journeyed out by the time they get home! BRING YOUR OWN LUNCH.
X-ALT-DESC;FMTTYPE=text/html:Spring into fun as we search the globe for the different places animals call home! Whether it is a frosty mountain peak or the humid heat of a rainforest jungle\, all animals quest for the best place to live. Each camp day brings a new habitat for us to explore with games\, crafts\, activities and animal encounters. This week-long Zoo Camp program runs from 9AM to 12PM Monday through Friday. New this year! For a separate daily fee\, your campers can join us for an after camp extension program following any or all five days of Zoo Camp. You choose which afternoons you want your little animal to hang out at Micke Grove Zoo\, and we&#39\;ll make sure they&#39\;re journeyed out by the time they get home! BRING YOUR OWN LUNCH.
LOCATION:Micke Grove Zoo
UID:e.2050.385
SEQUENCE:3
DTSTAMP:20260419T154325Z
URL:https://business.lodichamber.com/events/details/spring-zoo-camp-03-23-2015-385
END:VEVENT

END:VCALENDAR
