BEGIN:VCALENDAR
VERSION:2.0
PRODID:-//ChamberMaster//Event Calendar 2.0//EN
METHOD:PUBLISH
X-PUBLISHED-TTL:P3D
REFRESH-INTERVAL:P3D
CALSCALE:GREGORIAN
BEGIN:VEVENT
DTSTART:20151023T003000Z
DTEND:20151023T020000Z
X-MICROSOFT-CDO-ALLDAYEVENT:FALSE
SUMMARY:State Farm-Jon Rader Ribbon Cutting
DESCRIPTION:Join us as we celebrate State Farm agent's Jon Rader joining the Chamber family. It will be a wonderful evening of networking and celebration.
X-ALT-DESC;FMTTYPE=text/html:Join us as we celebrate State Farm agent&#39\;s Jon Rader joining the Chamber family. It will be a wonderful evening of networking and celebration.&nbsp\;
LOCATION:1812 W. Kettleman Lane
UID:e.2050.925
SEQUENCE:3
DTSTAMP:20260420T202817Z
URL:https://business.lodichamber.com/events/details/state-farm-jon-rader-ribbon-cutting-10-22-2015-925
END:VEVENT

END:VCALENDAR
