BEGIN:VCALENDAR
VERSION:2.0
PRODID:-//ChamberMaster//Event Calendar 2.0//EN
METHOD:PUBLISH
X-PUBLISHED-TTL:P3D
REFRESH-INTERVAL:P3D
CALSCALE:GREGORIAN
BEGIN:VEVENT
DTSTART:20151003T030000Z
DTEND:20151003T050000Z
X-MICROSOFT-CDO-ALLDAYEVENT:FALSE
SUMMARY:Stealin' Chicago
DESCRIPTION:These talented performers have respect for the music and a dedication to re-create how it was recorded by Terry Kath\, Robert Lamm and Peter Cetera and their different vocal styles. The unique sound incorporates a strong use of melodic horn lines and is the sound of Chicago. Kirst Hall - Beverage available for purchase
X-ALT-DESC;FMTTYPE=text/html:These talented performers have respect for the music and a dedication to re-create how it was recorded by Terry Kath\, Robert Lamm and Peter Cetera and their different vocal styles. The unique sound incorporates a strong use of melodic horn lines and is the sound of Chicago. Kirst Hall - Beverage available for purchase
LOCATION:Hutchins Street Square 125 S. Hutchins St. Lodi\, CA 95240
UID:e.2050.897
SEQUENCE:3
DTSTAMP:20260420T202650Z
URL:https://business.lodichamber.com/events/details/stealin-chicago-10-02-2015-897
END:VEVENT

END:VCALENDAR
