BEGIN:VCALENDAR
VERSION:2.0
PRODID:-//ChamberMaster//Event Calendar 2.0//EN
METHOD:PUBLISH
X-PUBLISHED-TTL:P3D
REFRESH-INTERVAL:P3D
CALSCALE:GREGORIAN
BEGIN:VEVENT
DTSTART:20140419T020000Z
DTEND:20140419T040000Z
X-MICROSOFT-CDO-ALLDAYEVENT:FALSE
SUMMARY:Strangely Dim Theatrical Performance
DESCRIPTION:On Friday\, April 18th at 7:00 p.m.\, Bear Creek Community Church will present: ?Strangely Dim?.   This dynamic presentation will be a unique live music and multimedia experience presenting the choice faced by all people living in the world today.  Admission is free and all ages are welcome\, there will be some intense content possibly not suitable for children under 10. Bear Creek Community Church is conveniently located between Stockton and Lodi.    Call 209-951-9229 or go to bearcreekchurch.com for more information.
X-ALT-DESC;FMTTYPE=text/html:On Friday\, April 18th at 7:00 p.m.\, Bear Creek Community Church will present: ?Strangely Dim?. &nbsp\; This dynamic presentation will be a unique live music and multimedia experience presenting the choice faced by all people living in the world today. &nbsp\;Admission is free and all ages are welcome\, there will be some intense content possibly not suitable for children under 10. Bear Creek Community Church is conveniently located between Stockton and Lodi. &nbsp\; &nbsp\;Call 209-951-9229 or go to bearcreekchurch.com for more information.
LOCATION:Bear Creek Community Church 11171 N Lower Sacramento Rd Lodi\, CA 95242
UID:e.2050.261
SEQUENCE:3
DTSTAMP:20260421T204610Z
URL:https://business.lodichamber.com/events/details/strangely-dim-theatrical-performance-04-18-2014-261
END:VEVENT

END:VCALENDAR
