BEGIN:VCALENDAR
VERSION:2.0
PRODID:-//ChamberMaster//Event Calendar 2.0//EN
METHOD:PUBLISH
X-PUBLISHED-TTL:P3D
REFRESH-INTERVAL:P3D
CALSCALE:GREGORIAN
BEGIN:VEVENT
DTSTART:20150612T000000Z
DTEND:20150612T020000Z
X-MICROSOFT-CDO-ALLDAYEVENT:FALSE
SUMMARY:Style Makes Me Happy Hour Stella & Dot Trunk Show at Cellar Door
DESCRIPTION:Shop the Lodi way\, while enjoying great wine! Stop by this Stella & Dot trunk show during the farmer's market to check out some \, enter to win fun prizes\, and learn about the business
X-ALT-DESC;FMTTYPE=text/html:Shop the Lodi way\, while enjoying great wine! Stop by this Stella &amp\; Dot trunk show during the farmer&#39\;s market to check out some \, enter to win fun prizes\, and learn about the business
LOCATION:Cellar Door\, 21 N School St.\, Lodi
UID:e.2050.843
SEQUENCE:3
DTSTAMP:20260421T004412Z
URL:https://business.lodichamber.com/events/details/style-makes-me-happy-hour-stella-dot-trunk-show-at-cellar-door-06-11-2015-843
END:VEVENT

END:VCALENDAR
