BEGIN:VCALENDAR
VERSION:2.0
PRODID:-//ChamberMaster//Event Calendar 2.0//EN
METHOD:PUBLISH
X-PUBLISHED-TTL:P3D
REFRESH-INTERVAL:P3D
CALSCALE:GREGORIAN
BEGIN:VEVENT
DTSTART:20150627T020000Z
DTEND:20150627T040000Z
X-MICROSOFT-CDO-ALLDAYEVENT:FALSE
SUMMARY:Summer Movie Nights
DESCRIPTION:Looking for some Friday Night Fun for the whole family? Bear Creek Community Church presents Family Movie Nights on the last Friday of June and July: June 26\, and July 31. Come watch a movie under the stars. The BBQ dinner begins at 7:00 p.m. for $5. The free movie starts at sunset. Candy\, Nachos\, Popcorn\, Ice Cream Sundaes and more for only $1. Bring your blankets and lawn chairs! Don?t miss out on all of the fun! Conveniently located between Stockton and Lodi on Lower Sacramento Road. Call 369-2202 or 951- 9229 or go to www.bearcreekchurch.com today! 11171
X-ALT-DESC;FMTTYPE=text/html:Looking for some Friday Night Fun for the whole family? Bear Creek Community Church presents Family Movie Nights on the last Friday of June and July: June 26\, and July 31. Come watch a movie under the stars. The BBQ dinner begins at 7:00 p.m. for $5. The free movie starts at sunset. Candy\, Nachos\, Popcorn\, Ice Cream Sundaes and more for only $1. Bring your blankets and lawn chairs! Don?t miss out on all of the fun! Conveniently located between Stockton and Lodi on Lower Sacramento Road. Call 369-2202 or 951- 9229 or go to www.bearcreekchurch.com today! 11171
LOCATION:Bear Creek Community Church 11171 N Lower Sacramento Rd Lodi\, CA 95242
UID:e.2050.839
SEQUENCE:3
DTSTAMP:20260421T015953Z
URL:https://business.lodichamber.com/events/details/summer-movie-nights-06-26-2015-839
END:VEVENT

END:VCALENDAR
