BEGIN:VCALENDAR
VERSION:2.0
PRODID:-//ChamberMaster//Event Calendar 2.0//EN
METHOD:PUBLISH
X-PUBLISHED-TTL:P3D
REFRESH-INTERVAL:P3D
CALSCALE:GREGORIAN
BEGIN:VEVENT
DTSTART:20150622T160000Z
DTEND:20150626T193000Z
X-MICROSOFT-CDO-ALLDAYEVENT:FALSE
SUMMARY:Summer Time Fun at Vacation Bible School
DESCRIPTION:Hey\, it?s time to sign up for Vacation Bible School at Bear Creek Community Church! ?Bible Blast from the Past? is June 22 ? 26 from 9 a.m. ? 12:30 p.m. for children ages 4 through 6th grades! Enjoy a week of Fun with Drama\, Crafts\, Bible Teaching\, Music\, Games\, Snacks and much more! Go to bearcreekchurch.com for details or call 369-2202 or 951-9229 today! Bear Creek Community Church is conveniently located on Lower Sacramento Road between Lodi and Stockton.
X-ALT-DESC;FMTTYPE=text/html:Hey\, it?s time to sign up for Vacation Bible School at Bear Creek Community Church! ?Bible Blast from the Past? is June 22 ? 26 from 9 a.m. ? 12:30 p.m. for children ages 4 through 6th grades! Enjoy a week of Fun with Drama\, Crafts\, Bible Teaching\, Music\, Games\, Snacks and much more! Go to bearcreekchurch.com for details or call 369-2202 or 951-9229 today! Bear Creek Community Church is conveniently located on Lower Sacramento Road between Lodi and Stockton.
LOCATION:Bear Creek Community Church 11171 N Lower Sacramento Rd Lodi\, CA 95242
UID:e.2050.598
SEQUENCE:3
DTSTAMP:20260421T015952Z
URL:https://business.lodichamber.com/events/details/summer-time-fun-at-vacation-bible-school-06-22-2015-598
END:VEVENT

END:VCALENDAR
