BEGIN:VCALENDAR
VERSION:2.0
PRODID:-//ChamberMaster//Event Calendar 2.0//EN
METHOD:PUBLISH
X-PUBLISHED-TTL:P3D
REFRESH-INTERVAL:P3D
CALSCALE:GREGORIAN
BEGIN:VEVENT
DTSTART:20150615T160000Z
DTEND:20150619T190000Z
X-MICROSOFT-CDO-ALLDAYEVENT:FALSE
SUMMARY:Summer Zoo Camp at Micke Grove Zoo
DESCRIPTION:Turn up the heat on your child's love for nature\, animals\, and conservation at Micke Grove Zoo Summer Camp! Each week brings us new opportunities to explore the animal world with games\, crafts\, activities and animal encounters. Fun included! For children ages 5-7 and 8-10 Years Old Summer Zoo Camp is held 9AM to 12PM on the following dates: June 15-19\, 22-26\; July 6-10\, 13-17\, and 20-24 REGISTRATION IS REQUIRED--register online today! Summer Zoo Camp Activity Breakdown: June 15-19: ?Transformers? Animals have been transforming through metamorphosis\, shape-shifting\, color morphing and size mutation long before our toys started changing. Come play with us and our ?living toys? to see how they are ?more than meets the eye?.
X-ALT-DESC;FMTTYPE=text/html:Turn up the heat on your child&#39\;s love for nature\, animals\, and conservation at Micke Grove Zoo Summer Camp! Each week brings us new opportunities to explore the animal world with games\, crafts\, activities and animal encounters. Fun included! For children ages 5-7 and 8-10 Years Old Summer Zoo Camp is held 9AM to 12PM on the following dates: June 15-19\, 22-26\; July 6-10\, 13-17\, and 20-24 REGISTRATION IS REQUIRED--register online today! Summer Zoo Camp Activity Breakdown: June 15-19: ?Transformers? Animals have been transforming through metamorphosis\, shape-shifting\, color morphing and size mutation long before our toys started changing. Come play with us and our ?living toys? to see how they are ?more than meets the eye?.
LOCATION:Micke Grove Zoo 11793 N. Micke Grove Road Lodi\, CA 95240
UID:e.2050.610
SEQUENCE:3
DTSTAMP:20260421T004539Z
URL:https://business.lodichamber.com/events/details/summer-zoo-camp-at-micke-grove-zoo-06-15-2015-610
END:VEVENT

END:VCALENDAR
