BEGIN:VCALENDAR
VERSION:2.0
PRODID:-//ChamberMaster//Event Calendar 2.0//EN
METHOD:PUBLISH
X-PUBLISHED-TTL:P3D
REFRESH-INTERVAL:P3D
CALSCALE:GREGORIAN
BEGIN:VEVENT
DTSTART:20150622T160000Z
DTEND:20150626T190000Z
X-MICROSOFT-CDO-ALLDAYEVENT:FALSE
SUMMARY:Summer Zoo Camp at Micke Grove Zoo
DESCRIPTION:Turn up the heat on your child's love for nature\, animals\, and conservation at Micke Grove Zoo Summer Camp! Each week brings us new opportunities to explore the animal world with games\, crafts\, activities and animal encounters. Fun included! For children ages 5-7 and 8-10 Years Old. Summer Zoo Camp is held 9AM to 12PM on the following dates: June 15-19\, 22-26\; July 6-10\, 13-17\, and 20-24 REGISTRATION IS REQUIRED--register online today! Summer Zoo Camp Activity Breakdown: June 22-26: ?Madagascar Madness? Fossa and Lemurs and Tortoises\, oh my. Trek with us to the island of Madagascar where these unique animals leap through the trees\, slink across the rainforest floors or creep underneath the majestic mystery of a baobab tree.
X-ALT-DESC;FMTTYPE=text/html:Turn up the heat on your child&#39\;s love for nature\, animals\, and conservation at Micke Grove Zoo Summer Camp! Each week brings us new opportunities to explore the animal world with games\, crafts\, activities and animal encounters. Fun included! For children ages 5-7 and 8-10 Years Old. Summer Zoo Camp is held 9AM to 12PM on the following dates: June 15-19\, 22-26\; July 6-10\, 13-17\, and 20-24 REGISTRATION IS REQUIRED--register online today! Summer Zoo Camp Activity Breakdown: June 22-26: ?Madagascar Madness? Fossa and Lemurs and Tortoises\, oh my. Trek with us to the island of Madagascar where these unique animals leap through the trees\, slink across the rainforest floors or creep underneath the majestic mystery of a baobab tree.
LOCATION:Micke Grove Zoo 11793 N. Micke Grove Road Lodi\, CA 95240
UID:e.2050.611
SEQUENCE:3
DTSTAMP:20260421T020603Z
URL:https://business.lodichamber.com/events/details/summer-zoo-camp-at-micke-grove-zoo-06-22-2015-611
END:VEVENT

END:VCALENDAR
