BEGIN:VCALENDAR
VERSION:2.0
PRODID:-//ChamberMaster//Event Calendar 2.0//EN
METHOD:PUBLISH
X-PUBLISHED-TTL:P3D
REFRESH-INTERVAL:P3D
CALSCALE:GREGORIAN
BEGIN:VEVENT
DTSTART:20150706T160000Z
DTEND:20150710T190000Z
X-MICROSOFT-CDO-ALLDAYEVENT:FALSE
SUMMARY:Summer Zoo Camp at Micke Grove Zoo
DESCRIPTION:Turn up the heat on your child's love for nature\, animals\, and conservation at Micke Grove Zoo Summer Camp! Each week brings us new opportunities to explore the animal world with games\, crafts\, activities and animal encounters. Fun included! For children ages 5-7 and 8-10 Years Old. Summer Zoo Camp is held 9AM to 12PM on the following dates: June 15-19\, 22-26\; July 6-10\, 13-17\, and 20-24 REGISTRATION IS REQUIRED--register online today! Summer Zoo Camp Activity Breakdown: July 6-10: ?Criminal Critters? They may be cuddly and cute but many animals of the world are opportunistic thieves that will steal anything from a meal to free babysitting. Learn how ?survival of the fittest? can sometimes be out-thinking your competition and where working smarter\, not harder\, can make all of the difference.
X-ALT-DESC;FMTTYPE=text/html:Turn up the heat on your child&#39\;s love for nature\, animals\, and conservation at Micke Grove Zoo Summer Camp! Each week brings us new opportunities to explore the animal world with games\, crafts\, activities and animal encounters. Fun included! For children ages 5-7 and 8-10 Years Old. Summer Zoo Camp is held 9AM to 12PM on the following dates: June 15-19\, 22-26\; July 6-10\, 13-17\, and 20-24 REGISTRATION IS REQUIRED--register online today! Summer Zoo Camp Activity Breakdown: July 6-10: ?Criminal Critters? They may be cuddly and cute but many animals of the world are opportunistic thieves that will steal anything from a meal to free babysitting. Learn how ?survival of the fittest? can sometimes be out-thinking your competition and where working smarter\, not harder\, can make all of the difference.
LOCATION:Micke Grove Zoo 11793 N. Micke Grove Road Lodi\, CA 95240
UID:e.2050.612
SEQUENCE:3
DTSTAMP:20260421T004412Z
URL:https://business.lodichamber.com/events/details/summer-zoo-camp-at-micke-grove-zoo-07-06-2015-612
END:VEVENT

END:VCALENDAR
