BEGIN:VCALENDAR
VERSION:2.0
PRODID:-//ChamberMaster//Event Calendar 2.0//EN
METHOD:PUBLISH
X-PUBLISHED-TTL:P3D
REFRESH-INTERVAL:P3D
CALSCALE:GREGORIAN
BEGIN:VEVENT
DTSTART:20150926T010000Z
DTEND:20150926T030000Z
X-MICROSOFT-CDO-ALLDAYEVENT:FALSE
SUMMARY:Sweet Night of Worship
DESCRIPTION:Contact info: LODI: 209-369-2202 ? STKN: 209-951-9229\; bearcreek@bearcreekchurch.com Sweet Night of Worship is a spectacular evening of sweet desserts and praise and worship. Desserts are available for purchase as soon as doors open. This year's event features Miscela Mime of Manteca\, Elaine Hanley\, and Bear Creek Community Church's Praise and Worship team and choir. All proceeds from the event will benefit Bear Creek Community Church's ministry partners in Israel.
X-ALT-DESC;FMTTYPE=text/html:Contact info: LODI: 209-369-2202 ? STKN: 209-951-9229\; bearcreek@bearcreekchurch.com Sweet Night of Worship is a spectacular evening of sweet desserts and praise and worship. Desserts are available for purchase as soon as doors open. This year&#39\;s event features Miscela Mime of Manteca\, Elaine Hanley\, and Bear Creek Community Church&#39\;s Praise and Worship team and choir. All proceeds from the event will benefit Bear Creek Community Church&#39\;s ministry partners in Israel.
LOCATION:Bear Creek Community Church 11171 N Lower Sacramento Rd Lodi\, CA 95242
UID:e.2050.909
SEQUENCE:3
DTSTAMP:20260420T215807Z
URL:https://business.lodichamber.com/events/details/sweet-night-of-worship-09-25-2015-909
END:VEVENT

END:VCALENDAR
