BEGIN:VCALENDAR
VERSION:2.0
PRODID:-//ChamberMaster//Event Calendar 2.0//EN
METHOD:PUBLISH
X-PUBLISHED-TTL:P3D
REFRESH-INTERVAL:P3D
CALSCALE:GREGORIAN
BEGIN:VEVENT
DTSTART:20260321T003000Z
DTEND:20260321T043500Z
X-MICROSOFT-CDO-ALLDAYEVENT:FALSE
SUMMARY:Take Flight
DESCRIPTION:Join the Mary Graham Scholarship Foundation as we Take Flight toward brighter futures for former foster youth. Take Flight is a powerful evening supporting former foster youth as they pursue college\, trade programs\, and meaningful careers. This year\, we will be celebrating two special people: Dianne & Gene Gini.
X-ALT-DESC;FMTTYPE=text/html:Join the Mary Graham Scholarship Foundation as we Take Flight toward brighter futures for former foster youth. Take Flight is a powerful evening supporting former foster youth as they pursue college\, trade programs\, and meaningful careers. This year\, we will be celebrating two special people: Dianne &amp\; Gene Gini.
LOCATION:The River Mill 1672 West Bowman Rd French Camp\, CA 95231
UID:e.2050.6304
SEQUENCE:3
DTSTAMP:20260420T162055Z
URL:https://business.lodichamber.com/events/details/take-flight-6304
END:VEVENT

END:VCALENDAR
