BEGIN:VCALENDAR
VERSION:2.0
PRODID:-//ChamberMaster//Event Calendar 2.0//EN
METHOD:PUBLISH
X-PUBLISHED-TTL:P3D
REFRESH-INTERVAL:P3D
CALSCALE:GREGORIAN
BEGIN:VEVENT
DTSTART:20140914T000000Z
DTEND:20140914T030000Z
X-MICROSOFT-CDO-ALLDAYEVENT:FALSE
SUMMARY:Tapas and Wine Fiesta - Celebrating Nature
DESCRIPTION:Join the Micke Grove Zoological Society on Saturday\, September 13 from 5-8PM during National Hispanic Heritage Month sampling local and regional wines and delicious tapas created by local restaurants. Entertainment\, including the opportunity to meet animals from the education animal collection\, will be provided while you stroll under the stars at the zoo. Join us for wine\, appetizers\, raffle prizes\, mariachis\, and more! $35/person\, $60/couple\; guests 21+ only. Tickets available at www.mgzoo.com. Proceeds benefit the Micke Grove Zoo Education Department.
X-ALT-DESC;FMTTYPE=text/html:Join the Micke Grove Zoological Society on Saturday\, September 13 from 5-8PM during National Hispanic Heritage Month sampling local and regional wines and delicious tapas created by local restaurants. Entertainment\, including the opportunity to meet animals from the education animal collection\, will be provided while you stroll under the stars at the zoo. Join us for wine\, appetizers\, raffle prizes\, mariachis\, and more! $35/person\, $60/couple\; guests 21+ only. Tickets available at www.mgzoo.com. Proceeds benefit the Micke Grove Zoo Education Department.
LOCATION:Micke Grove Zoo 11793 N. Micke Grove Road Lodi\, CA 95240
UID:e.2050.297
SEQUENCE:3
DTSTAMP:20260421T131344Z
URL:https://business.lodichamber.com/events/details/tapas-and-wine-fiesta-celebrating-nature-09-13-2014-297
END:VEVENT

END:VCALENDAR
