BEGIN:VCALENDAR
VERSION:2.0
PRODID:-//ChamberMaster//Event Calendar 2.0//EN
METHOD:PUBLISH
X-PUBLISHED-TTL:P3D
REFRESH-INTERVAL:P3D
CALSCALE:GREGORIAN
BEGIN:VEVENT
DTSTART:20150730T003000Z
DTEND:20150730T020000Z
X-MICROSOFT-CDO-ALLDAYEVENT:FALSE
SUMMARY:Thai Kitchen Ribbon Cutting
DESCRIPTION:Join us at Thai Kitchen's Ribbon Cutting Celebration!
X-ALT-DESC;FMTTYPE=text/html:Join us at Thai Kitchen&#39\;s Ribbon Cutting Celebration!
LOCATION:107 Sacramento Street
UID:e.2050.828
SEQUENCE:3
DTSTAMP:20260421T004108Z
URL:https://business.lodichamber.com/events/details/thai-kitchen-ribbon-cutting-07-29-2015-828
END:VEVENT

END:VCALENDAR
