BEGIN:VCALENDAR
VERSION:2.0
PRODID:-//ChamberMaster//Event Calendar 2.0//EN
METHOD:PUBLISH
X-PUBLISHED-TTL:P3D
REFRESH-INTERVAL:P3D
CALSCALE:GREGORIAN
BEGIN:VEVENT
DTSTART:20150328T190000Z
DTEND:20150328T210000Z
X-MICROSOFT-CDO-ALLDAYEVENT:FALSE
SUMMARY:The Bunny Hop in Downtown Lodi
DESCRIPTION:Young Professionals of Lodi invties you to hop to Downtown Lodi for a FREE Easter Egg hunt! Meet at the corner of Oak and School Streets to pick-up your bag then head out to participating businesses to gather eggs! Don't forget your cameras- you might spot the Easter Bunny hopping around with you!
X-ALT-DESC;FMTTYPE=text/html:Young Professionals of Lodi invties you to hop to Downtown Lodi for a FREE Easter Egg hunt! Meet at the corner of Oak and School Streets to pick-up your bag then head out to participating businesses to gather eggs! Don&#39\;t forget your cameras- you might spot the Easter Bunny hopping around with you!
LOCATION:Downtown Lodi - at the Corner of Oak and School Street
UID:e.2050.428
SEQUENCE:3
DTSTAMP:20260421T043204Z
URL:https://business.lodichamber.com/events/details/the-bunny-hop-in-downtown-lodi-03-28-2015-428
END:VEVENT

END:VCALENDAR
