BEGIN:VCALENDAR
VERSION:2.0
PRODID:-//ChamberMaster//Event Calendar 2.0//EN
METHOD:PUBLISH
X-PUBLISHED-TTL:P3D
REFRESH-INTERVAL:P3D
CALSCALE:GREGORIAN
BEGIN:VEVENT
DTSTART:20160115T180000Z
DTEND:20160118T010000Z
X-MICROSOFT-CDO-ALLDAYEVENT:FALSE
SUMMARY:The Lodi Home & Garden Show
DESCRIPTION:The Lodi Home & Garden Show offers homeowners and future homeowners the opportunity to visit several vendors in one place at one time. Guests can visit vendors and get tips and new ideas to help improve and beautify their homes and yards. Our Lodi show is jam packed with fun features. We have our Food Truck Wars which gives show goers a chance to try several gourmet food trucks and fun activities for the kids provided by Lodi?s own Zombie Club.
X-ALT-DESC;FMTTYPE=text/html:The Lodi Home &amp\; Garden Show offers homeowners and future homeowners the opportunity to visit several vendors in one place at one time. Guests can visit vendors and get tips and new ideas to help improve and beautify their homes and yards. Our Lodi show is jam packed with fun features. We have our Food Truck Wars which gives show goers a chance to try several gourmet food trucks and fun activities for the kids provided by Lodi?s own Zombie Club.
LOCATION:Lodi Grape Festival Grounds 413 E Lockeford St\, Lodi\, CA 95240
UID:e.2050.937
SEQUENCE:3
DTSTAMP:20260420T143612Z
URL:https://business.lodichamber.com/events/details/the-lodi-home-garden-show-01-15-2016-937
END:VEVENT

END:VCALENDAR
