BEGIN:VCALENDAR
VERSION:2.0
PRODID:-//ChamberMaster//Event Calendar 2.0//EN
METHOD:PUBLISH
X-PUBLISHED-TTL:P3D
REFRESH-INTERVAL:P3D
CALSCALE:GREGORIAN
BEGIN:VEVENT
DTSTART:20141213T030000Z
DTEND:20141213T050000Z
X-MICROSOFT-CDO-ALLDAYEVENT:FALSE
SUMMARY:The Nutcracker Ballet
DESCRIPTION:The wonderful holiday delight returns for the season. Clara's dream adventure continues to captivate audiences as she and her Nutcracker Prince battle the evil mouse king and then are wisked away through the snow to the land of sweet treats.
X-ALT-DESC;FMTTYPE=text/html:The wonderful holiday delight returns for the season. Clara&#39\;s dream adventure continues to captivate audiences as she and her Nutcracker Prince battle the evil mouse king and then are wisked away through the snow to the land of sweet treats.
LOCATION:Hutchins Street Square
UID:e.2050.338
SEQUENCE:3
DTSTAMP:20260421T085008Z
URL:https://business.lodichamber.com/events/details/the-nutcracker-ballet-12-12-2014-338
END:VEVENT

END:VCALENDAR
