BEGIN:VCALENDAR
VERSION:2.0
PRODID:-//ChamberMaster//Event Calendar 2.0//EN
METHOD:PUBLISH
X-PUBLISHED-TTL:P3D
REFRESH-INTERVAL:P3D
CALSCALE:GREGORIAN
BEGIN:VEVENT
DTSTART:20140817T020000Z
DTEND:20140817T040000Z
X-MICROSOFT-CDO-ALLDAYEVENT:FALSE
SUMMARY:The World Famous Glenn Miller Orchestra
DESCRIPTION:In 1941\, Glenn Miller and His Orchestra had more hit records in one year\, including A String of Pearls\, than anybody in the history of the recording industry. This is the most sought after Big Band in the world today for both concerts and dance engagements. Their entire repertoire now exceeds 1\,700 compositions\, which keeps the band popular with both young and old. They have been "on the road" longer and more continuously than any other Big Band ever.
X-ALT-DESC;FMTTYPE=text/html:In 1941\, Glenn Miller and His Orchestra had more hit records in one year\, including A String of Pearls\, than anybody in the history of the recording industry. This is the most sought after Big Band in the world today for both concerts and dance engagements. Their entire repertoire now exceeds 1\,700 compositions\, which keeps the band popular with both young and old. They have been &quot\;on the road&quot\; longer and more continuously than any other Big Band ever.
LOCATION:Hutchins Street Square 125 S. Hutchins St. Lodi\, CA 95240
UID:e.2050.281
SEQUENCE:3
DTSTAMP:20260421T161704Z
URL:https://business.lodichamber.com/events/details/the-world-famous-glenn-miller-orchestra-08-16-2014-281
END:VEVENT

END:VCALENDAR
