BEGIN:VCALENDAR
VERSION:2.0
PRODID:-//ChamberMaster//Event Calendar 2.0//EN
METHOD:PUBLISH
X-PUBLISHED-TTL:P3D
REFRESH-INTERVAL:P3D
CALSCALE:GREGORIAN
BEGIN:VEVENT
DTSTART:20150421T160000Z
DTEND:20150423T230000Z
X-MICROSOFT-CDO-ALLDAYEVENT:FALSE
SUMMARY:Tony Segale's Abstract Watercolor Workshop
DESCRIPTION:Starting with a sense of design\, you will create a composition for your painting. Then you can challenge your feelings and render your emotions with shapes\, texture\, color\, values\, line and direction. Abstract painting is a journey\, sometimes lost\, and then found again.
X-ALT-DESC;FMTTYPE=text/html:Starting with a sense of design\, you will create a composition for your painting. Then you can challenge your feelings and render your emotions with shapes\, texture\, color\, values\, line and direction. Abstract painting is a journey\, sometimes lost\, and then found again.
LOCATION:Double Dip Gallery located at 222 W. Pine Street (across from city hall)
UID:e.2050.574
SEQUENCE:3
DTSTAMP:20260421T043035Z
URL:https://business.lodichamber.com/events/details/tony-segale-s-abstract-watercolor-workshop-04-21-2015-574
END:VEVENT

END:VCALENDAR
