BEGIN:VCALENDAR
VERSION:2.0
PRODID:-//ChamberMaster//Event Calendar 2.0//EN
METHOD:PUBLISH
X-PUBLISHED-TTL:P3D
REFRESH-INTERVAL:P3D
CALSCALE:GREGORIAN
BEGIN:VEVENT
DTSTART:20150917T003000Z
DTEND:20150917T020000Z
X-MICROSOFT-CDO-ALLDAYEVENT:FALSE
SUMMARY:Tony Segale's Double Dip Gallery
DESCRIPTION:Ribbon cutting for Tony Segale's Double Dip Gallery
X-ALT-DESC;FMTTYPE=text/html:Ribbon cutting for Tony Segale&#39\;s Double Dip Gallery
LOCATION:222 W. Pine St.
UID:e.2050.864
SEQUENCE:3
DTSTAMP:20260420T202908Z
URL:https://business.lodichamber.com/events/details/tony-segale-s-double-dip-gallery-09-16-2015-864
END:VEVENT

END:VCALENDAR
