BEGIN:VCALENDAR
VERSION:2.0
PRODID:-//ChamberMaster//Event Calendar 2.0//EN
METHOD:PUBLISH
X-PUBLISHED-TTL:P3D
REFRESH-INTERVAL:P3D
CALSCALE:GREGORIAN
BEGIN:VEVENT
DTSTART:20150613T030000Z
DTEND:20150613T050000Z
X-MICROSOFT-CDO-ALLDAYEVENT:FALSE
SUMMARY:Toree McGee
DESCRIPTION:Blessed a voice that emanates grit and fire\, McGee describes her music as a blend of ?Woodstock rock ?n? roll\, and sparkly country.? Her influences range from the country sounds of The Judds & LeAnn Rimes\, to the rock of Guns N? Roses & Aerosmith\, and especially the engrossing vocals of Janis Joplin. VIP tickets holders will receive RESERVED\, front row seating\, one drink ticket and a VIP only line at the bar
X-ALT-DESC;FMTTYPE=text/html:Blessed a voice that emanates grit and fire\, McGee describes her music as a blend of ?Woodstock rock ?n? roll\, and sparkly country.? Her influences range from the country sounds of The Judds &amp\; LeAnn Rimes\, to the rock of Guns N? Roses &amp\; Aerosmith\, and especially the engrossing vocals of Janis Joplin. VIP tickets holders will receive RESERVED\, front row seating\, one drink ticket and a VIP only line at the bar
LOCATION:Hutchins Street Square 125 S. Hutchins St. Lodi\, CA 95240
UID:e.2050.435
SEQUENCE:3
DTSTAMP:20260421T004010Z
URL:https://business.lodichamber.com/events/details/toree-mcgee-06-12-2015-435
END:VEVENT

END:VCALENDAR
