BEGIN:VCALENDAR
VERSION:2.0
PRODID:-//ChamberMaster//Event Calendar 2.0//EN
METHOD:PUBLISH
X-PUBLISHED-TTL:P3D
REFRESH-INTERVAL:P3D
CALSCALE:GREGORIAN
BEGIN:VEVENT
DTSTART:20150531T163000Z
DTEND:20150531T173000Z
X-MICROSOFT-CDO-ALLDAYEVENT:FALSE
SUMMARY:Toys for Critters at Micke Grove Zoo
DESCRIPTION:Bring your family to make toys and treats for our family! Enrichments are items that help keep our zoo animal ambassadors happy\, healthy\, and engaged. Meet some of the education animals up close and with the help of education and zoo staff\, create something special for the animals and watch your work be appreciated by the critters! Ages 4 and Up. Each participant must be registered and children under the age of 17 must have a registered adult present. Toys for Critters is held 9:30AM-10:30AM on the 1st\, 3rd\, and 5th Sundays in May. Limited space available. Registration is required--register online today at http://mgzoo.doubleknot.com/openrosters/ViewActivitySpaceAvailable.aspx?OrgKey=2921&CategoryID=10261
X-ALT-DESC;FMTTYPE=text/html:Bring your family to make toys and treats for our family! Enrichments are items that help keep our zoo animal ambassadors happy\, healthy\, and engaged. Meet some of the education animals up close and with the help of education and zoo staff\, create something special for the animals and watch your work be appreciated by the critters! Ages 4 and Up. Each participant must be registered and children under the age of 17 must have a registered adult present. Toys for Critters is held 9:30AM-10:30AM on the 1st\, 3rd\, and 5th Sundays in May. Limited space available. Registration is required--register online today at http://mgzoo.doubleknot.com/openrosters/ViewActivitySpaceAvailable.aspx?OrgKey=2921&amp\;CategoryID=10261
LOCATION:Micke Grove Zoo 11793 N. Micke Grove Road Lodi\, CA 95240
UID:e.2050.617
SEQUENCE:3
DTSTAMP:20260421T021156Z
URL:https://business.lodichamber.com/events/details/toys-for-critters-at-micke-grove-zoo-05-31-2015-617
END:VEVENT

END:VCALENDAR
