BEGIN:VCALENDAR
VERSION:2.0
PRODID:-//ChamberMaster//Event Calendar 2.0//EN
METHOD:PUBLISH
X-PUBLISHED-TTL:P3D
REFRESH-INTERVAL:P3D
CALSCALE:GREGORIAN
BEGIN:VEVENT
DTSTART:20140203T190000Z
DTEND:20140204T010000Z
X-MICROSOFT-CDO-ALLDAYEVENT:FALSE
SUMMARY:Triple Threat
DESCRIPTION:To start off 2014\, the Knowlton Gallery s first show will feature three\n\n	distinct artists we feel are worthy of serious consideration for one s\n\n	art collection.  They are\, Andy Evansen Carolyn Hesse-Low and Jim\n\n	McVicker.  Join us for an opening reception on Saturday\, January 11\,\n\n	2014\, 1   4pm.
X-ALT-DESC;FMTTYPE=text/html:<p>\n	To start off 2014\, the Knowlton Gallery&sup1\;s first show will feature three</p>\n<p>\n	distinct artists we feel are worthy of serious consideration for one&sup1\;s</p>\n<p>\n	art collection. &nbsp\;They are\, Andy Evansen Carolyn Hesse-Low and Jim</p>\n<p>\n	McVicker. &nbsp\;Join us for an opening reception on Saturday\, January 11\,</p>\n<p>\n	2014\, 1 &ndash\; 4pm.</p>\n
LOCATION:Knowlton Gallery 115 South School Street Kirsten Company LLC\,Lodi\,CA 95240
UID:e.2050.9
SEQUENCE:3
DTSTAMP:20260422T012647Z
URL:https://business.lodichamber.com/events/details/triple-threat-02-03-2014-9
END:VEVENT

END:VCALENDAR
