BEGIN:VCALENDAR
VERSION:2.0
PRODID:-//ChamberMaster//Event Calendar 2.0//EN
METHOD:PUBLISH
X-PUBLISHED-TTL:P3D
REFRESH-INTERVAL:P3D
CALSCALE:GREGORIAN
BEGIN:VEVENT
DTSTART:20150718T003000Z
DTEND:20150718T020000Z
X-MICROSOFT-CDO-ALLDAYEVENT:FALSE
SUMMARY:Twisted Barrel Ribbon Cutting
DESCRIPTION:Join us for Twisted Barrel's ribbon cutting celebration!
X-ALT-DESC;FMTTYPE=text/html:Join us for Twisted Barrel&#39\;s ribbon cutting celebration!
LOCATION:1376 E. Turner Road\, Suite D
UID:e.2050.829
SEQUENCE:3
DTSTAMP:20260420T231756Z
URL:https://business.lodichamber.com/events/details/twisted-barrel-ribbon-cutting-07-17-2015-829
END:VEVENT

END:VCALENDAR
