BEGIN:VCALENDAR
VERSION:2.0
PRODID:-//ChamberMaster//Event Calendar 2.0//EN
METHOD:PUBLISH
X-PUBLISHED-TTL:P3D
REFRESH-INTERVAL:P3D
CALSCALE:GREGORIAN
BEGIN:VEVENT
DTSTART:20151111T230000Z
DTEND:20151112T010000Z
X-MICROSOFT-CDO-ALLDAYEVENT:FALSE
SUMMARY:Veterans in Grief Workshop
DESCRIPTION:This Workshop is intended for former military service persons who have had multiple losses including past comrades\; experience loss as a result from the impact of their military service\; and other loved ones to death. It's designed to help Veterans understand the journey of grief\, determine when professional help is needed\, and identify tools that are key to the healing process. It is also a time to share\, reflect\, and receive wisdom from your fellow country men and women.
X-ALT-DESC;FMTTYPE=text/html:This Workshop is intended for former military service persons who have had multiple losses including past comrades\; experience loss as a result from the impact of their military service\; and other loved ones to death. It&#39\;s designed to help Veterans understand the journey of grief\, determine when professional help is needed\, and identify tools that are key to the healing process. It is also a time to share\, reflect\, and receive wisdom from your fellow country men and women.
LOCATION:Hospice of San Joaquin 3888 Pacific Ave. Bldg. A Stockton\, CA. 95204
UID:e.2050.928
SEQUENCE:3
DTSTAMP:20260420T172621Z
URL:https://business.lodichamber.com/events/details/veterans-in-grief-workshop-11-11-2015-928
END:VEVENT

END:VCALENDAR
