BEGIN:VCALENDAR
VERSION:2.0
PRODID:-//ChamberMaster//Event Calendar 2.0//EN
METHOD:PUBLISH
X-PUBLISHED-TTL:P3D
REFRESH-INTERVAL:P3D
CALSCALE:GREGORIAN
BEGIN:VEVENT
DTSTART:20140701T180000Z
DTEND:20140824T000000Z
X-MICROSOFT-CDO-ALLDAYEVENT:FALSE
SUMMARY:Way Out West - Knowlton Gallery
DESCRIPTION:"The West" means so many things\; a mythical place that Hollywood created\, an actual landscape as varied as the high plateaus of Arizona to the coast of California\, as well its indigenous people and multicultural immigrants.  It is this vast variety that I am hoping will be reflected in our show WAY OUT WEST.  The show will include paintings by Kim Lordier\, Ray Roberts\, Clark Mitchell\, Timothy Horn\, Kate Starling\, Kathleen Dunphy\, Charles Muench\, Jean LeGassick\, Dennis Ziemienski\, and John Cosby.  The Opening Reception for WAY OUT WEST will be Saturday\, July 12\, from 1pm to 4 pm.
X-ALT-DESC;FMTTYPE=text/html:&quot\;The West&quot\; means so many things\; a mythical place that Hollywood created\, an actual landscape as varied as the high plateaus of Arizona to the coast of California\, as well its indigenous people and multicultural immigrants. &nbsp\;It is this vast variety that I am hoping will be reflected in our show WAY OUT WEST. &nbsp\;The show will include paintings by Kim Lordier\, Ray Roberts\, Clark Mitchell\, Timothy Horn\, Kate Starling\, Kathleen Dunphy\, Charles Muench\, Jean LeGassick\, Dennis Ziemienski\, and John Cosby. &nbsp\;The Opening Reception for WAY OUT WEST will be Saturday\, July 12\, from 1pm to 4 pm.
LOCATION:Knowlton Gallery 115 S School Street\, #14 Lodi\, CA 95240
UID:e.2050.254
SEQUENCE:3
DTSTAMP:20260421T144758Z
URL:https://business.lodichamber.com/events/details/way-out-west-knowlton-gallery-07-01-2014-254
END:VEVENT

END:VCALENDAR
