BEGIN:VCALENDAR
VERSION:2.0
PRODID:-//ChamberMaster//Event Calendar 2.0//EN
METHOD:PUBLISH
X-PUBLISHED-TTL:P3D
REFRESH-INTERVAL:P3D
CALSCALE:GREGORIAN
BEGIN:VEVENT
DTSTART:20141210T003000Z
DTEND:20141210T050000Z
X-MICROSOFT-CDO-ALLDAYEVENT:FALSE
SUMMARY:Weibel Vineyards Holiday Affair
DESCRIPTION:Come enjoy a day of shopping\, while supporting a great Charitable Foundation and many local vendors for your Holiday Experience Bring a toy or canned food and receive a ticket for the raffle
X-ALT-DESC;FMTTYPE=text/html:Come enjoy a day of shopping\, while supporting a great Charitable Foundation and many local vendors for your Holiday Experience Bring a toy or canned food and receive a ticket for the raffle
LOCATION:23 West Elm Street Lodi
UID:e.2050.336
SEQUENCE:3
DTSTAMP:20260421T085235Z
URL:https://business.lodichamber.com/events/details/weibel-vineyards-holiday-affair-12-09-2014-336
END:VEVENT

END:VCALENDAR
