BEGIN:VCALENDAR
VERSION:2.0
PRODID:-//ChamberMaster//Event Calendar 2.0//EN
METHOD:PUBLISH
X-PUBLISHED-TTL:P3D
REFRESH-INTERVAL:P3D
CALSCALE:GREGORIAN
BEGIN:VEVENT
DTSTART:20151015T190000Z
DTEND:20151015T203000Z
X-MICROSOFT-CDO-ALLDAYEVENT:FALSE
SUMMARY:White Cane Safety/Blind Americans Equality Day Celebration
DESCRIPTION:Celebrate White Cane Safety/Blind Americans Equality Day with Community Center for the Blind and Visually Impaired. Festivities will begin at noon at Caldwell Park\, 3021 Pacific Avenue\, Stockton\, with a proclamation followed by a 1.8 mile walk along the historic Miracle Mile. Dine in or take out at Whirlow's Tossed and Grilled\, 1926 Pacific Avenue\, on October 15 between 11:00 a.m. and 9:00 p.m. Mention you are supporting CCBVI and Whirlow's will donate 20% of your bill to CCBVI! Help us continue to make great strides along the path to independence and celebrate the accomplishments of people who are blind.
X-ALT-DESC;FMTTYPE=text/html:Celebrate White Cane Safety/Blind Americans Equality Day with Community Center for the Blind and Visually Impaired. Festivities will begin at noon at Caldwell Park\, 3021 Pacific Avenue\, Stockton\, with a proclamation followed by a 1.8 mile walk along the historic Miracle Mile. Dine in or take out at Whirlow&#39\;s Tossed and Grilled\, 1926 Pacific Avenue\, on October 15 between 11:00 a.m. and 9:00 p.m. Mention you are supporting CCBVI and Whirlow&#39\;s will donate 20% of your bill to CCBVI! Help us continue to make great strides along the path to independence and celebrate the accomplishments of people who are blind.
LOCATION:Caldwell Park 3021 Pacific Avenue Stockton California 95204
UID:e.2050.893
SEQUENCE:3
DTSTAMP:20260420T185441Z
URL:https://business.lodichamber.com/events/details/white-cane-safety-blind-americans-equality-day-celebration-10-15-2015-893
END:VEVENT

END:VCALENDAR
