BEGIN:VCALENDAR
VERSION:2.0
PRODID:-//ChamberMaster//Event Calendar 2.0//EN
METHOD:PUBLISH
X-PUBLISHED-TTL:P3D
REFRESH-INTERVAL:P3D
CALSCALE:GREGORIAN
BEGIN:VEVENT
DTSTART:20150531T000000Z
DTEND:20150531T030000Z
X-MICROSOFT-CDO-ALLDAYEVENT:FALSE
SUMMARY:Wild About Wine
DESCRIPTION:Join in on this wine and culinary experience at Micke Grove Zoo! Formerly known as the "Tapas and Wine Fiesta\," Wild About Wine regales guests with samples of the best foods and wines of more than two dozen regional restaurants and wineries. Live entertainment and animal fun promise to delight participants in the most ?zoonique? environment in San Joaquin County! One of a kind pieces of art created by Micke Grove Zoo's very own wildlife will be available for bid in a silent auction and more than a dozen prizes will be raffled away. You'll also be able to walk away with your very own wine glass and a chance to win a private VIP experience! Event proceeds benefit the Micke Grove Zoo Education Department. Hosted by the Micke Grove Zoological Society. Buy your tickets online! All guests must have a ticket and be 21 or older to attend Wild About Wine. Guests with infants and/or small children will not be permitted to enter the gates under any circumstances.
X-ALT-DESC;FMTTYPE=text/html:Join in on this wine and culinary experience at Micke Grove Zoo! Formerly known as the &quot\;Tapas and Wine Fiesta\,&quot\; Wild About Wine regales guests with samples of the best foods and wines of more than two dozen regional restaurants and wineries. Live entertainment and animal fun promise to delight participants in the most ?zoonique? environment in San Joaquin County! One of a kind pieces of art created by Micke Grove Zoo&#39\;s very own wildlife will be available for bid in a silent auction and more than a dozen prizes will be raffled away. You&#39\;ll also be able to walk away with your very own wine glass and a chance to win a private VIP experience! Event proceeds benefit the Micke Grove Zoo Education Department. Hosted by the Micke Grove Zoological Society. Buy your tickets online! All guests must have a ticket and be 21 or older to attend Wild About Wine. Guests with infants and/or small children will not be permitted to enter the gates under any circumstances.
LOCATION:Micke Grove Zoo 11793 N. Micke Grove Road Lodi\, CA 95240
UID:e.2050.603
SEQUENCE:3
DTSTAMP:20260421T015604Z
URL:https://business.lodichamber.com/events/details/wild-about-wine-05-30-2015-603
END:VEVENT

END:VCALENDAR
