BEGIN:VCALENDAR
VERSION:2.0
PRODID:-//ChamberMaster//Event Calendar 2.0//EN
METHOD:PUBLISH
X-PUBLISHED-TTL:P3D
REFRESH-INTERVAL:P3D
CALSCALE:GREGORIAN
BEGIN:VEVENT
DTSTART:20140427T210000Z
DTEND:20140428T000000Z
X-MICROSOFT-CDO-ALLDAYEVENT:FALSE
SUMMARY:Wine & Roses 3rd Annual Spring of the Vine Wine Tasting Event
DESCRIPTION:Our 3rd Annual Spring of the Vine Wine Tasting Event! Featuring local wineries\, live music by Mike and Martin\, art showcase and cuisine 2-5pm on the beautiful grounds of Wine & Roses. Tickets $35 per person in advance\, $45 day of event Contact 209.371.6117 or sales@winerose.com Check out our Spring of the Vine Hotel Package!
X-ALT-DESC;FMTTYPE=text/html:Our 3rd Annual Spring of the Vine Wine Tasting Event! Featuring local wineries\, live music by Mike and Martin\, art showcase and cuisine 2-5pm on the beautiful grounds of Wine &amp\; Roses. Tickets $35 per person in advance\, $45 day of event Contact 209.371.6117 or <a href="mailto:sales@winerose.com">sales@winerose.com</a> Check out our Spring of the Vine Hotel Package!
LOCATION:Wine & Roses Hotel.restaurant.Spa
UID:e.2050.235
SEQUENCE:3
DTSTAMP:20260421T222557Z
URL:https://business.lodichamber.com/events/details/wine-roses-3rd-annual-spring-of-the-vine-wine-tasting-event-04-27-2014-235
END:VEVENT

END:VCALENDAR
