BEGIN:VCALENDAR
VERSION:2.0
PRODID:-//ChamberMaster//Event Calendar 2.0//EN
METHOD:PUBLISH
X-PUBLISHED-TTL:P3D
REFRESH-INTERVAL:P3D
CALSCALE:GREGORIAN
BEGIN:VEVENT
DTSTART:20141018T160000Z
DTEND:20141018T220000Z
X-MICROSOFT-CDO-ALLDAYEVENT:FALSE
SUMMARY:Woodbridge Winery - Chili Cook-Off & Car Show
DESCRIPTION:Join us for the 12th Annual California State Championship Chili Cook-Off & Car Show!  A fundraiser for the Lodi Public Library Foundation.
X-ALT-DESC;FMTTYPE=text/html:Join us for the 12th&nbsp\;Annual California State Championship Chili Cook-Off &amp\; Car Show! &nbsp\;A fundraiser for the Lodi Public Library Foundation.
LOCATION:Woodbridge Winery 5950 E. Woodbridge Rd. Acampo\, Ca 209-365-8139 Chili.org
UID:e.2050.330
SEQUENCE:3
DTSTAMP:20260421T114548Z
URL:https://business.lodichamber.com/events/details/woodbridge-winery-chili-cook-off-car-show-10-18-2014-330
END:VEVENT

END:VCALENDAR
