BEGIN:VCALENDAR
VERSION:2.0
PRODID:-//ChamberMaster//Event Calendar 2.0//EN
METHOD:PUBLISH
X-PUBLISHED-TTL:P3D
REFRESH-INTERVAL:P3D
CALSCALE:GREGORIAN
BEGIN:VEVENT
DTSTART:20150308T170000Z
DTEND:20150309T000000Z
X-MICROSOFT-CDO-ALLDAYEVENT:FALSE
SUMMARY:WOW Birthday Party
DESCRIPTION:The Wold of Wonders Science Museum is having a birthday party and EVERYONE is invited.
X-ALT-DESC;FMTTYPE=text/html:The Wold of Wonders Science Museum is having a birthday party and EVERYONE is invited.
LOCATION:2 N. Sacramento St.
UID:e.2050.370
SEQUENCE:3
DTSTAMP:20260421T042911Z
URL:https://business.lodichamber.com/events/details/wow-birthday-party-03-08-2015-370
END:VEVENT

END:VCALENDAR
