BEGIN:VCALENDAR
VERSION:2.0
PRODID:-//ChamberMaster//Event Calendar 2.0//EN
METHOD:PUBLISH
X-PUBLISHED-TTL:P3D
REFRESH-INTERVAL:P3D
CALSCALE:GREGORIAN
BEGIN:VEVENT
DTSTART:20151129T230000Z
DTEND:20151130T010000Z
X-MICROSOFT-CDO-ALLDAYEVENT:FALSE
SUMMARY:Xmas Comes Early
DESCRIPTION:Xmas Comes Early Christmas comes early to Lodi with the Valley Concert Band. Back by Popular demand\, the joyous sounds of the Valley Concert Band with Director Chris Anderson will get you in the holiday spirit!
X-ALT-DESC;FMTTYPE=text/html:Xmas Comes Early Christmas comes early to Lodi with the Valley Concert Band. Back by Popular demand\, the joyous sounds of the Valley Concert Band with Director Chris Anderson will get you in the holiday spirit!
LOCATION:Hutchins Street Square
UID:e.2050.917
SEQUENCE:3
DTSTAMP:20260420T185254Z
URL:https://business.lodichamber.com/events/details/xmas-comes-early-11-29-2015-917
END:VEVENT

END:VCALENDAR
