BEGIN:VCALENDAR
VERSION:2.0
PRODID:-//ChamberMaster//Event Calendar 2.0//EN
METHOD:PUBLISH
X-PUBLISHED-TTL:P3D
REFRESH-INTERVAL:P3D
CALSCALE:GREGORIAN
BEGIN:VEVENT
DTSTART:20140921T000000Z
DTEND:20140921T030000Z
X-MICROSOFT-CDO-ALLDAYEVENT:FALSE
SUMMARY:You're Invited: Wines of California Book Launch
DESCRIPTION:Join noted authors and Wine Enthusiast critics Mike DeSimone & Jeff Jenssen as they celebrate the release of their unparalleled guide to California wines. Featuring local bites and a special tasting from LoCA: The Wines of Lodi - one CA's most buzzed-about wine regions - don't miss this special event\, hosted by the hottest wine bar in the East Bay!
X-ALT-DESC;FMTTYPE=text/html:Join noted authors and Wine Enthusiast critics Mike DeSimone &amp\; Jeff Jenssen as they celebrate the release of their unparalleled guide to California wines. Featuring local bites and a special tasting from LoCA: The Wines of Lodi - one CA&#39\;s most buzzed-about wine regions - don&#39\;t miss this special event\, hosted by the hottest wine bar in the East Bay! &nbsp\;
LOCATION:Ordinaire Wine Shop & Wine Bar 3354 Grand Ave\, Oakland\, CA 94610
UID:e.2050.295
SEQUENCE:3
DTSTAMP:20260421T131410Z
URL:https://business.lodichamber.com/events/details/you-re-invited-wines-of-california-book-launch-09-20-2014-295
END:VEVENT

END:VCALENDAR
