BEGIN:VCALENDAR
VERSION:2.0
PRODID:-//ChamberMaster//Event Calendar 2.0//EN
METHOD:PUBLISH
X-PUBLISHED-TTL:P3D
REFRESH-INTERVAL:P3D
CALSCALE:GREGORIAN
BEGIN:VEVENT
DTSTART:20150709T003000Z
DTEND:20150709T020000Z
X-MICROSOFT-CDO-ALLDAYEVENT:FALSE
SUMMARY:YUME Japanese Cuisine Resturant
DESCRIPTION:Join us at YUME's Ribbon Cutting celebration!
X-ALT-DESC;FMTTYPE=text/html:Join us at YUME&#39\;s&nbsp\;Ribbon Cutting celebration!
LOCATION:2401 W. Turner Rd. Suite 222
UID:e.2050.827
SEQUENCE:3
DTSTAMP:20260420T232156Z
URL:https://business.lodichamber.com/events/details/yume-japanese-cuisine-resturant-07-08-2015-827
END:VEVENT

END:VCALENDAR
