BEGIN:VCALENDAR
VERSION:2.0
PRODID:-//ChamberMaster//Event Calendar 2.0//EN
METHOD:PUBLISH
X-PUBLISHED-TTL:P3D
REFRESH-INTERVAL:P3D
CALSCALE:GREGORIAN
BEGIN:VEVENT
DTSTART:20150516T190000Z
DTEND:20150517T000000Z
X-MICROSOFT-CDO-ALLDAYEVENT:FALSE
SUMMARY:ZinFest Wine Festival: Wine\, Food & Fun at Lodi Lake
DESCRIPTION:Celebrate the 11th annual ZinFest Wine Festival with us as you sip\, swirl and savor from a selection of 200 handcrafted Lodi wines from over 40 wineries. Enjoy interacting with passionate vintners while sipping delicious wines and learning more about the Lodi wine region. Savor local food\, learn some new tips at the ZinFest Wine and Cooking Schools or Up in Smoke! BBQ Demonstration\, or relax along the beautiful Mokelumne River to an eclectic mix of live music. Browse handcrafted merchandise from regional vendors and be sure to take home a commemorative bottle of custom blended Old Vine Zinfandel from the ZinFest Wine Shoppe. And be sure not to miss the Vintner?s Regatta ? a daring battle of skill and muscle in which local winemakers will take to the lake in wine barrel ?boats? as they race for a custom trophy and winery bragging rights! Tickets include a ZinFest wine glass\, wine tasting\, participation in seminars and entertainment. Must be 21 years of age to attend.
X-ALT-DESC;FMTTYPE=text/html:Celebrate the 11th annual ZinFest Wine Festival with us as you sip\, swirl and savor from a selection of 200 handcrafted Lodi wines from over 40 wineries. Enjoy interacting with passionate vintners while sipping delicious wines and learning more about the Lodi wine region. Savor local food\, learn some new tips at the ZinFest Wine and Cooking Schools or Up in Smoke! BBQ Demonstration\, or relax along the beautiful Mokelumne River to an eclectic mix of live music. Browse handcrafted merchandise from regional vendors and be sure to take home a commemorative bottle of custom blended Old Vine Zinfandel from the ZinFest Wine Shoppe. And be sure not to miss the Vintner?s Regatta ? a daring battle of skill and muscle in which local winemakers will take to the lake in wine barrel ?boats? as they race for a custom trophy and winery bragging rights! Tickets include a ZinFest wine glass\, wine tasting\, participation in seminars and entertainment. Must be 21 years of age to attend.
LOCATION:Lodi Lake Park
UID:e.2050.427
SEQUENCE:3
DTSTAMP:20260421T021400Z
URL:https://business.lodichamber.com/events/details/zinfest-wine-festival-wine-food-fun-at-lodi-lake-05-16-2015-427
END:VEVENT

END:VCALENDAR
