BEGIN:VCALENDAR
VERSION:2.0
PRODID:-//ChamberMaster//Event Calendar 2.0//EN
METHOD:PUBLISH
X-PUBLISHED-TTL:P3D
REFRESH-INTERVAL:P3D
CALSCALE:GREGORIAN
BEGIN:VEVENT
DTSTART:20140517T190000Z
DTEND:20140518T000000Z
X-MICROSOFT-CDO-ALLDAYEVENT:FALSE
SUMMARY:ZinFest: Wine\, Food\, & Fun at Lodi Lake
DESCRIPTION:We?re turning 10! Celebrate with us as you sip\, swirl and savor from a selection of 250 handcrafted wines from over 40 Lodi wineries. Enjoy interacting with passionate vintners while sipping delicious wines and learning more about the Lodi wine region. Savor local food\, learn some new tips at the ZinFest Wine and Cooking Schools\, or relax along the beautiful Mokelumne River to an eclectic mix of live music. Browse handcrafted merchandise from regional vendors and be sure to take home a commemorative bottle of custom blended Old Vine Zinfandel from the ZinFest Wine Shoppe. Tickets include a ZinFest wine glass\, wine tasting\, participation in seminars and entertainment. Must be 21 years of age to attend. Tickets are $55 in advance and $65 at the gate. Designated driver tickets are available for $10 each. Designated drivers must be 21 and over to attend. Ticket sales begin March 1st\, 2014\, and can be purchased at www.zinfest.com or by calling the Lodi Wine & Visitor Center at 209.365.0621.
X-ALT-DESC;FMTTYPE=text/html:We?re turning 10! Celebrate with us as you sip\, swirl and savor from a selection of 250 handcrafted wines from over 40 Lodi wineries. Enjoy interacting with passionate vintners while sipping delicious wines and learning more about the Lodi wine region. Savor local food\, learn some new tips at the ZinFest Wine and Cooking Schools\, or relax along the beautiful Mokelumne River to an eclectic mix of live music. Browse handcrafted merchandise from regional vendors and be sure to take home a commemorative bottle of custom blended Old Vine Zinfandel from the ZinFest Wine Shoppe. Tickets include a ZinFest wine glass\, wine tasting\, participation in seminars and entertainment. Must be 21 years of age to attend. Tickets are $55 in advance and $65 at the gate. Designated driver tickets are available for $10 each. Designated drivers must be 21 and over to attend. Ticket sales begin March 1st\, 2014\, and can be purchased at www.zinfest.com or by calling the Lodi Wine &amp\; Visitor Center at 209.365.0621.
LOCATION:Lodi Lake Park
UID:e.2050.255
SEQUENCE:3
DTSTAMP:20260421T191212Z
URL:https://business.lodichamber.com/events/details/zinfest-wine-food-fun-at-lodi-lake-05-17-2014-255
END:VEVENT

END:VCALENDAR
