BEGIN:VCALENDAR
VERSION:2.0
PRODID:-//ChamberMaster//Event Calendar 2.0//EN
METHOD:PUBLISH
X-PUBLISHED-TTL:P3D
REFRESH-INTERVAL:P3D
CALSCALE:GREGORIAN
BEGIN:VEVENT
DTSTART:20150816T030000Z
DTEND:20150816T050000Z
X-MICROSOFT-CDO-ALLDAYEVENT:FALSE
SUMMARY:Zoo After Dark at Micke Grove Zoo
DESCRIPTION:Zoo After Dark at Micke Grove Zoo brings together the best parts of a camping trip: creative activities\, exciting wildlife\, sounds of the night under a starry sky\, and hot cocoa and marshmallow toasted S?mores all topped off with fireside storytelling. For date night or the perfect family outing\, it does not get any better than this fun-filled after hours program! Open to children ages 5 and up. Each participant must be registered and children under the age of 17 must have a registered adult present. REGISTRATION IS REQUIRED--register online today at at http://www.mgzoo.com/zoo/micke-grove/education-programs/zoo-after-dark.htm! Parking is included in registration. Registration may be completed online through midnight the Thursday before each program date. Limited space is available.
X-ALT-DESC;FMTTYPE=text/html:Zoo After Dark at Micke Grove Zoo brings together the best parts of a camping trip: creative activities\, exciting wildlife\, sounds of the night under a starry sky\, and hot cocoa and marshmallow toasted S?mores all topped off with fireside storytelling. For date night or the perfect family outing\, it does not get any better than this fun-filled after hours program! Open to children ages 5 and up. Each participant must be registered and children under the age of 17 must have a registered adult present. REGISTRATION IS REQUIRED--register online today at at http://www.mgzoo.com/zoo/micke-grove/education-programs/zoo-after-dark.htm! Parking is included in registration. Registration may be completed online through midnight the Thursday before each program date. Limited space is available.
LOCATION:Micke Grove Zoo 11793 N. Micke Grove Road Lodi\, CA 95240
UID:e.2050.609
SEQUENCE:3
DTSTAMP:20260420T232109Z
URL:https://business.lodichamber.com/events/details/zoo-after-dark-at-micke-grove-zoo-08-15-2015-609
END:VEVENT

END:VCALENDAR
