BEGIN:VCALENDAR
VERSION:2.0
PRODID:-//ChamberMaster//Event Calendar 2.0//EN
METHOD:PUBLISH
X-PUBLISHED-TTL:P3D
REFRESH-INTERVAL:P3D
CALSCALE:GREGORIAN
BEGIN:VEVENT
DTSTART:20150511T163000Z
DTEND:20150511T173000Z
X-MICROSOFT-CDO-ALLDAYEVENT:FALSE
SUMMARY:Zoo Tots at Micke Grove Zoo
DESCRIPTION:Private animal encounters and zoo fun for you and your little critters! New wild themes are presented every week by energetic staff members who know how to make your time at the zoo a memorable one! Limited space available. Open to children ages 18 months to 3 years old with an adult. Zoo Tots is every Monday from 9:30AM-10:30AM. Scheduled Topics: 5/4 Nature's Paintbrush\, 5/11 Neat Animal Feet\, 5/18 Animal Cities\, 5/25 Animal Babies. Registration is required--register online today at http://mgzoo.doubleknot.com/event/micke-grove-zoo-tots-spring/1688205
X-ALT-DESC;FMTTYPE=text/html:Private animal encounters and zoo fun for you and your little critters! New wild themes are presented every week by energetic staff members who know how to make your time at the zoo a memorable one! Limited space available. Open to children ages 18 months to 3 years old with an adult. Zoo Tots is every Monday from 9:30AM-10:30AM. Scheduled Topics: 5/4 Nature&#39\;s Paintbrush\, 5/11 Neat Animal Feet\, 5/18 Animal Cities\, 5/25 Animal Babies. Registration is required--register online today at http://mgzoo.doubleknot.com/event/micke-grove-zoo-tots-spring/1688205
LOCATION:Micke Grove Zoo 11793 N. Micke Grove Road Lodi\, CA 95240
UID:e.2050.619
SEQUENCE:3
DTSTAMP:20260421T020558Z
URL:https://business.lodichamber.com/events/details/zoo-tots-at-micke-grove-zoo-05-11-2015-619
END:VEVENT

END:VCALENDAR
