BEGIN:VCALENDAR
VERSION:2.0
PRODID:-//ChamberMaster//Event Calendar 2.0//EN
METHOD:PUBLISH
X-PUBLISHED-TTL:P3D
REFRESH-INTERVAL:P3D
CALSCALE:GREGORIAN
BEGIN:VEVENT
DTSTART;VALUE=DATE:20140621
DTEND;VALUE=DATE:20140622
TRANSP:TRANSPARENT
X-MICROSOFT-CDO-ALLDAYEVENT:TRUE
SUMMARY:ZOO ZOOM 5k run/walk - Micke Grove Park
DESCRIPTION:Zoo Zoom is a 5k run/walk race around Micke Grove Park. Registration begins at 6:30am and the race begins at 8:00am. All entries include a race bib\, commemorative t-shirt\, pancake breakfast\, refreshments\, and free park and zoo entry. Online registration is available at www.active.com (search Micke Grove Zoo) or call 209-331-2010. Registration are being accepted until June 19\, 2014. Registration package fees are as follows: Kids Run (8 & under) $20 entry fee\; race is not timed and includes a stuffed animal. 5K Run (9 & over) $35 entry fee. Family Package (family of 4) $100 entry fee\; includes Kids Run and 5K Run participants.
X-ALT-DESC;FMTTYPE=text/html:Zoo Zoom is a 5k run/walk race around Micke Grove Park. Registration begins at 6:30am and the race begins at 8:00am. All entries include a race bib\, commemorative t-shirt\, pancake breakfast\, refreshments\, and free park and zoo entry. Online registration is available at www.active.com (search Micke Grove Zoo) or call 209-331-2010. Registration are being accepted until June 19\, 2014. Registration package fees are as follows: Kids Run (8 &amp\; under) $20 entry fee\; race is not timed and includes a stuffed animal. 5K Run (9 &amp\; over) $35 entry fee. Family Package (family of 4) $100 entry fee\; includes Kids Run and 5K Run participants.
LOCATION:MICKE GROVE PARK
UID:e.2050.246
SEQUENCE:3
DTSTAMP:20260421T175045Z
URL:https://business.lodichamber.com/events/details/zoo-zoom-5k-run-walk-micke-grove-park-06-21-2014-246
END:VEVENT

END:VCALENDAR
